BEGIN:VCALENDAR
VERSION:2.0
PRODID:-//Petit Sabadell - ECPv6.15.16//NONSGML v1.0//EN
CALSCALE:GREGORIAN
METHOD:PUBLISH
X-ORIGINAL-URL:https://petitsabadell.cat
X-WR-CALDESC:Esdeveniments per Petit Sabadell
REFRESH-INTERVAL;VALUE=DURATION:PT1H
X-Robots-Tag:noindex
X-PUBLISHED-TTL:PT1H
BEGIN:VTIMEZONE
TZID:Europe/Madrid
BEGIN:DAYLIGHT
TZOFFSETFROM:+0100
TZOFFSETTO:+0200
TZNAME:CEST
DTSTART:20250330T010000
END:DAYLIGHT
BEGIN:STANDARD
TZOFFSETFROM:+0200
TZOFFSETTO:+0100
TZNAME:CET
DTSTART:20251026T010000
END:STANDARD
BEGIN:DAYLIGHT
TZOFFSETFROM:+0100
TZOFFSETTO:+0200
TZNAME:CEST
DTSTART:20260329T010000
END:DAYLIGHT
BEGIN:STANDARD
TZOFFSETFROM:+0200
TZOFFSETTO:+0100
TZNAME:CET
DTSTART:20261025T010000
END:STANDARD
BEGIN:DAYLIGHT
TZOFFSETFROM:+0100
TZOFFSETTO:+0200
TZNAME:CEST
DTSTART:20270328T010000
END:DAYLIGHT
BEGIN:STANDARD
TZOFFSETFROM:+0200
TZOFFSETTO:+0100
TZNAME:CET
DTSTART:20271031T010000
END:STANDARD
END:VTIMEZONE
BEGIN:VEVENT
DTSTART;TZID=Europe/Madrid:20260425T103000
DTEND;TZID=Europe/Madrid:20260425T123000
DTSTAMP:20260423T225539
CREATED:20210823T175846Z
LAST-MODIFIED:20260423T193625Z
UID:10022736-1777113000-1777120200@petitsabadell.cat
SUMMARY:Taller 'Aprèn a jugar a escacs'
DESCRIPTION:Us agraden els escacs? Compartiu o us agradaria compartir aquesta afició amb els petits de la casa? Si és així\, la Societat Coral Colón i la Biblioteca de Ponent organitzen un torneig familiar d’aquest joc tradicional a nivell d’iniciació alguns dissabtes al matí. Heu de tenir en compte que aquesta activitat està adreçada al públic adult i infants a partir dels 6 anys.
URL:https://petitsabadell.cat/esdeveniment/apren-jugar-escacs-societat-coral-colon-biblioteca-ponent/
LOCATION:Biblioteca de Ponent\, Pl. d'Ovidi Montllor 5\, SABADELL\, 08206
CATEGORIES:Activitats diverses
ATTACH;FMTTYPE=image/jpeg:https://petitsabadell.cat/wp-content/uploads/2021/08/escacs.jpg
END:VEVENT
END:VCALENDAR