BEGIN:VCALENDAR
VERSION:2.0
PRODID:-//Petit Sabadell - ECPv6.15.16//NONSGML v1.0//EN
CALSCALE:GREGORIAN
METHOD:PUBLISH
X-WR-CALNAME:Petit Sabadell
X-ORIGINAL-URL:https://petitsabadell.cat
X-WR-CALDESC:Esdeveniments per Petit Sabadell
REFRESH-INTERVAL;VALUE=DURATION:PT1H
X-Robots-Tag:noindex
X-PUBLISHED-TTL:PT1H
BEGIN:VTIMEZONE
TZID:Europe/Madrid
BEGIN:DAYLIGHT
TZOFFSETFROM:+0100
TZOFFSETTO:+0200
TZNAME:CEST
DTSTART:20220327T010000
END:DAYLIGHT
BEGIN:STANDARD
TZOFFSETFROM:+0200
TZOFFSETTO:+0100
TZNAME:CET
DTSTART:20221030T010000
END:STANDARD
BEGIN:DAYLIGHT
TZOFFSETFROM:+0100
TZOFFSETTO:+0200
TZNAME:CEST
DTSTART:20230326T010000
END:DAYLIGHT
BEGIN:STANDARD
TZOFFSETFROM:+0200
TZOFFSETTO:+0100
TZNAME:CET
DTSTART:20231029T010000
END:STANDARD
BEGIN:DAYLIGHT
TZOFFSETFROM:+0100
TZOFFSETTO:+0200
TZNAME:CEST
DTSTART:20240331T010000
END:DAYLIGHT
BEGIN:STANDARD
TZOFFSETFROM:+0200
TZOFFSETTO:+0100
TZNAME:CET
DTSTART:20241027T010000
END:STANDARD
BEGIN:DAYLIGHT
TZOFFSETFROM:+0100
TZOFFSETTO:+0200
TZNAME:CEST
DTSTART:20250330T010000
END:DAYLIGHT
BEGIN:STANDARD
TZOFFSETFROM:+0200
TZOFFSETTO:+0100
TZNAME:CET
DTSTART:20251026T010000
END:STANDARD
BEGIN:DAYLIGHT
TZOFFSETFROM:+0100
TZOFFSETTO:+0200
TZNAME:CEST
DTSTART:20260329T010000
END:DAYLIGHT
BEGIN:STANDARD
TZOFFSETFROM:+0200
TZOFFSETTO:+0100
TZNAME:CET
DTSTART:20261025T010000
END:STANDARD
BEGIN:DAYLIGHT
TZOFFSETFROM:+0100
TZOFFSETTO:+0200
TZNAME:CEST
DTSTART:20270328T010000
END:DAYLIGHT
BEGIN:STANDARD
TZOFFSETFROM:+0200
TZOFFSETTO:+0100
TZNAME:CET
DTSTART:20271031T010000
END:STANDARD
END:VTIMEZONE
BEGIN:VEVENT
DTSTART;TZID=Europe/Madrid:20260423T100000
DTEND;TZID=Europe/Madrid:20260423T190000
DTSTAMP:20260424T002747
CREATED:20260419T173336Z
LAST-MODIFIED:20260419T174749Z
UID:10022895-1776938400-1776970800@petitsabadell.cat
SUMMARY:Taller 'Art i natura': explorant textures'
DESCRIPTION:En aquesta proposta vinculada a la diada de Sant Jordi explorareu les textures del vostre entorn a través de tècniques artístiques com el frottage\, que consisteix a captar relleus i formes fregant un llapis o un carbonet sobre un paper col·locat damunt d’una superfície. Pedres\, fulles\, fusta i altres elements naturals es convertiran en punt de partida per crear composicions pròpies i deixar volar la imaginació. \nL’activitat s’emmarca en l’exposició Montserrat Senserrich. Narrar en silenci: memòria\, natura i resistència\, una mostra del Museu d’Art de Sabadell que posa en relació art\, natura i experiència vital a partir de l’obra d’una artista que ha fet dels elements quotidians i del paisatge una font constant d’inspiració. Una proposta per observar\, tocar i crear\, tot descobrint com allò més petit també pot transformar-se en expressió artística. \n\n✅ Podeu participar en aquest taller durant tota el dia (de 10.00 a 19.00).
URL:https://petitsabadell.cat/esdeveniment/taller-art-natura-explorant-textures/
LOCATION:Racó del Campanar\, Racó del Campanar\, Sabadell\, 08201
CATEGORIES:Tallers
ATTACH;FMTTYPE=image/jpeg:https://petitsabadell.cat/wp-content/uploads/2026/04/taller-explorant-textures.jpg
END:VEVENT
BEGIN:VEVENT
DTSTART;TZID=Europe/Madrid:20250518T113000
DTEND;TZID=Europe/Madrid:20250518T133000
DTSTAMP:20260424T002747
CREATED:20250420T095819Z
LAST-MODIFIED:20250514T080354Z
UID:10017039-1747567800-1747575000@petitsabadell.cat
SUMMARY:Taller 'Sabadell crea moda... i jo també!'
DESCRIPTION:El taller Sabadell crea moda… i jo també! és una activitat lliure per a infants de totes les edats. Hi desplegareu la vostra creativitat dissenyant roba de paper per a figures retallables\, inspirant-vos en els vestits que hi ha a l’exposició Sabadell crea del Museu d’Art. Podreu pintar\, dibuixar i retallar les vostres creacions i les vostres nines i ninos. De fet\, es tracta d’una proposta complementària de l’exposició\, que es pot veure al Museu d’Art fins al 29 de juny.
URL:https://petitsabadell.cat/esdeveniment/taller-sabadell-crea-moda-i-jo-tambe/
LOCATION:Museu d’Art de Sabadell – Casa Turull\, c. Doctor Puig 16\, Sabadell\, 08202
CATEGORIES:Tallers
ATTACH;FMTTYPE=image/jpeg:https://petitsabadell.cat/wp-content/uploads/2025/04/sabadell-crea-moda.jpg
END:VEVENT
BEGIN:VEVENT
DTSTART;TZID=Europe/Madrid:20250202T120000
DTEND;TZID=Europe/Madrid:20250202T140000
DTSTAMP:20260424T002747
CREATED:20250125T112026Z
LAST-MODIFIED:20250130T174032Z
UID:10016810-1738497600-1738504800@petitsabadell.cat
SUMMARY:Taller 'Els meus exlibris'
DESCRIPTION:En aquest taller\, experimentareu amb la funció d’una impremta. Amb fusta i goma creareu els vostres propis exlibris per poder marcar els llibres. I\, de passada\, recordareu que a Sabadell hi va haver la impremta Sallent\, fundada per Joan Sallent cap a l’any 1909\, i que va ser una de les impremtes més importants de la història de Catalunya. Una impremta va més enllà de la seva funció primordial\, que és imprimir. En el cas de la impremta Sallent\, va exercir de pont amb les institucions sabadellenques durant més de mig segle\, va dur a terme tasques editorials de gran volada\, va col·laborar amb artistes i dissenyadors\, i va donar forma i veu a les indústries sabadellenques\, molt especialment del sector tèxtil.
URL:https://petitsabadell.cat/esdeveniment/taller-exlibris/
LOCATION:Museu d’Art de Sabadell – Casa Turull\, c. Doctor Puig 16\, Sabadell\, 08202
CATEGORIES:Arts plàstiques
ATTACH;FMTTYPE=image/jpeg:https://petitsabadell.cat/wp-content/uploads/2025/01/Sallent.jpg
END:VEVENT
BEGIN:VEVENT
DTSTART;TZID=Europe/Madrid:20241117T113000
DTEND;TZID=Europe/Madrid:20241117T130000
DTSTAMP:20260424T002747
CREATED:20241109T181814Z
LAST-MODIFIED:20241109T181958Z
UID:10014566-1731843000-1731848400@petitsabadell.cat
SUMMARY:Activitat 'El poblament al territori de Sabadell'
DESCRIPTION:En aquesta visita al Museu d’Art de Sabadell\, participants de CIPO us presentaran alguns objectes arqueològics de la sala de prehistòria del Museu i us explicaran com eren les primeres poblacions de l’àrea de Sabadell i la seva vida quotidiana. Després fareu una activitat conjunta en què cada participant podrà crear una pintura fent servir les tècniques de la prehistòria: quins pigments feien servir? què dibuixaven? \n⚠️Els organitzadors recomanen que porteu roba que es pugui embrutar.
URL:https://petitsabadell.cat/esdeveniment/activitat-el-poblament-al-territori-de-sabadell/
LOCATION:Museu d’Art de Sabadell – Casa Turull\, c. Doctor Puig 16\, Sabadell\, 08202
CATEGORIES:Arts plàstiques
ATTACH;FMTTYPE=image/jpeg:https://petitsabadell.cat/wp-content/uploads/2022/11/pigments-prehistorics.jpg
END:VEVENT
BEGIN:VEVENT
DTSTART;TZID=Europe/Madrid:20240518T170000
DTEND;TZID=Europe/Madrid:20240518T235900
DTSTAMP:20260424T002747
CREATED:20240517T083036Z
LAST-MODIFIED:20240517T083036Z
UID:10012755-1716051600-1716076740@petitsabadell.cat
SUMMARY:La Nit dels Museus
DESCRIPTION:Per dotzè any consecutiu\, els museus de Sabadell s’uneixen aquest dissabte per celebrar el Dia Internacional dels Museus\, dia en què obren fins a la mitjanit. El Museu d’Art\, el Museu d’Història i l’Institut Català de Paleontologia Miquel Crusafont han programat una jornada de portes obertes\, visites guiades i diverses activitats gratuïtes adreçades a tots els ciutadans\, com els tallers familiars que es faran l’endemà del dissabte\, d’11 h a 13.00 h. Al MAS\, pintareu sobre l’obra de l’artista Sniqus\, a l’ICP caminareu entre Dimetrodons i al MHS\, faràs una cistella prehistòrica. \nPer a més informació sobre les visites guiades\, pots contactar amb l’organitzador aquí.
URL:https://petitsabadell.cat/esdeveniment/la-nit-dels-museus-2/
LOCATION:Museus de Sabadell
CATEGORIES:Activitats diverses
ATTACH;FMTTYPE=image/jpeg:https://petitsabadell.cat/wp-content/uploads/2022/05/museu.jpeg
END:VEVENT
BEGIN:VEVENT
DTSTART;TZID=Europe/Madrid:20240423T100000
DTEND;TZID=Europe/Madrid:20240423T200000
DTSTAMP:20260424T002747
CREATED:20240420T165154Z
LAST-MODIFIED:20240420T165240Z
UID:10012499-1713866400-1713902400@petitsabadell.cat
SUMMARY:Taller familiar sobre l'exposició 'Ple de cartró'
DESCRIPTION:Amb motiu de la Diada de Sant Jordi\, el Museu d’Art de Sabadell us proposa una activitat relacionada amb l’exposició Ple de Cartró\, de Guillem Celada\, que fins el 5 de maig podeu veure en aquest equipament del Centre de la ciutat. En aquest taller\, desplegareu la vostra creativitat tot construint i decorant capses de cartró i figures en paper\, on hi podreu guardar els vostres secrets i tot allò que més us agrada.
URL:https://petitsabadell.cat/esdeveniment/31881/
LOCATION:Racó del Campanar\, Racó del Campanar\, Sabadell\, 08201
CATEGORIES:Arts plàstiques
ATTACH;FMTTYPE=image/jpeg:https://petitsabadell.cat/wp-content/uploads/2024/04/Plec-de-Cartro-OPT.jpg
END:VEVENT
BEGIN:VEVENT
DTSTART;TZID=Europe/Madrid:20240407T120000
DTEND;TZID=Europe/Madrid:20240407T140000
DTSTAMP:20260424T002747
CREATED:20240330T121548Z
LAST-MODIFIED:20240330T121652Z
UID:10012459-1712491200-1712498400@petitsabadell.cat
SUMMARY:Joc de pistes a la Casa Turull
DESCRIPTION:El Museu d’Art de Sabadell us proposa un joc de pistes per la Casa Turull per a totes les famílies i per totes les edats. Hi haureu de trobar detalls\, objectes\, decoracions… d’una manera amena i diferent\, que us ajudaran a entendre com vivia una família benestant a Sabadell durant el segle XIX i part del XX. Hi coneixereu la història de la casa\, i també podreu gaudir de la instal·lació vídeo artística permanent amb el títol Tot és fum. Una casa\, una ciutat i dos segles de Lluís Campmajor i de l’ àudio guia amb el títol La casa fàbrica. Art vida i societat a Sabadell\, en el marc del programa Visitmuseum de l’Agència Catalana del Patrimoni Cultural.
URL:https://petitsabadell.cat/esdeveniment/joc-de-pistes-a-la-casa-turull/
LOCATION:Museu d’Art de Sabadell – Casa Turull\, c. Doctor Puig 16\, Sabadell\, 08202
CATEGORIES:Activitats diverses
ATTACH;FMTTYPE=image/jpeg:https://petitsabadell.cat/wp-content/uploads/2024/03/joc-pistes.jpg
END:VEVENT
BEGIN:VEVENT
DTSTART;TZID=Europe/Madrid:20231119T120000
DTEND;TZID=Europe/Madrid:20231119T120000
DTSTAMP:20260424T002747
CREATED:20231115T202220Z
LAST-MODIFIED:20231117T082501Z
UID:10009180-1700395200-1700395200@petitsabadell.cat
SUMMARY:'Les aventures de Matito'\, de la companyia Matito
DESCRIPTION:El Matito té un amic molt especial\, el Gall Antonio. Sí\, és un gall i se l’estima molt. De vegades li fa vergonya d’explicar-ho a la gent\, però malgrat tot Matito decideix regar més i més aquesta amistat\, com si fos un arbre. I tant ell com l’Antonio tindran una dolça recompensa: aprendre a ser excel·lents amics. La companyia Matito passa pel Museu d’Art de Sabadell amb un espectacle tendre\, on cada escena es desenvolupa delicadament amb humor i simpatia\, i en el qual veureu que les petites coses del dia a dia\, són grans oportunitats per créixer. \nAquest activitat s’organitza en el marc de l’exposició Objectiu Sabadell. Història de la fotografia 1860-1936 i dins dels actes de commemoració a la ciutat del Dia Universal dels Drets dels Infants (DUDI)
URL:https://petitsabadell.cat/esdeveniment/aventures-matito-companyia-matito/
LOCATION:Museu d’Art de Sabadell – Casa Turull\, c. Doctor Puig 16\, Sabadell\, 08202
ATTACH;FMTTYPE=image/jpeg:https://petitsabadell.cat/wp-content/uploads/2023/11/aventures-matito.jpg
END:VEVENT
END:VCALENDAR