BEGIN:VCALENDAR
VERSION:2.0
PRODID:-//Petit Sabadell - ECPv6.15.16//NONSGML v1.0//EN
CALSCALE:GREGORIAN
METHOD:PUBLISH
X-WR-CALNAME:Petit Sabadell
X-ORIGINAL-URL:https://petitsabadell.cat
X-WR-CALDESC:Esdeveniments per Petit Sabadell
REFRESH-INTERVAL;VALUE=DURATION:PT1H
X-Robots-Tag:noindex
X-PUBLISHED-TTL:PT1H
BEGIN:VTIMEZONE
TZID:Europe/Madrid
BEGIN:DAYLIGHT
TZOFFSETFROM:+0100
TZOFFSETTO:+0200
TZNAME:CEST
DTSTART:20230326T010000
END:DAYLIGHT
BEGIN:STANDARD
TZOFFSETFROM:+0200
TZOFFSETTO:+0100
TZNAME:CET
DTSTART:20231029T010000
END:STANDARD
BEGIN:DAYLIGHT
TZOFFSETFROM:+0100
TZOFFSETTO:+0200
TZNAME:CEST
DTSTART:20240331T010000
END:DAYLIGHT
BEGIN:STANDARD
TZOFFSETFROM:+0200
TZOFFSETTO:+0100
TZNAME:CET
DTSTART:20241027T010000
END:STANDARD
BEGIN:DAYLIGHT
TZOFFSETFROM:+0100
TZOFFSETTO:+0200
TZNAME:CEST
DTSTART:20250330T010000
END:DAYLIGHT
BEGIN:STANDARD
TZOFFSETFROM:+0200
TZOFFSETTO:+0100
TZNAME:CET
DTSTART:20251026T010000
END:STANDARD
END:VTIMEZONE
BEGIN:VEVENT
DTSTART;TZID=Europe/Madrid:20240120T110000
DTEND;TZID=Europe/Madrid:20240120T130000
DTSTAMP:20260423T224246
CREATED:20240116T122504Z
LAST-MODIFIED:20240116T122505Z
UID:10011371-1705748400-1705755600@petitsabadell.cat
SUMMARY:'Pinzells per la Pau i la Mediació'
DESCRIPTION:Amb motiu de commemorar el Dia Europeu de la Mediació\, al Vapor Badia posaran en pràctica les seves habilitats a través d’un exercici plàstic que pren com a referent l’obra del pintor abstracte Kandinsky. L’activitat\, però\, té una dificultat afegida: totes les persones de l’equip pintaran al mateix temps i amb un sol pinzell\, sense arribar a tocar-lo amb les mans!
URL:https://petitsabadell.cat/esdeveniment/pinzells-per-la-pau-i-la-mediacio/
LOCATION:Biblioteca Vapor Badia\, c. Tres Creus 127-129\, SABADELL\, 08202
CATEGORIES:Tallers
ATTACH;FMTTYPE=image/jpeg:https://petitsabadell.cat/wp-content/uploads/2024/01/deGranero-clases-pintura-madrid-1.jpg
ORGANIZER;CN="Biblioteca Vapor Badia":MAILTO:bibliovaporbadia@ajsabadell.cat
END:VEVENT
END:VCALENDAR